BEGIN:VCALENDAR
VERSION:2.0
PRODID:SchoolNow
CALSCALE:GREGORIAN
BEGIN:VEVENT
UID:f9a6f0c0-f040-11ee-8126-0affd3c940bd
DTSTAMP:20240510T063007Z
SUMMARY:Girls 8th Grade Soccer @ Cityside Middle School
LOCATION:Zeeland Public Schools Transportation\, 720 E Main Ave\, Zeeland\,
  MI 49464
URL;VALUE=URI:https://www.hudsonvillepublicschools.org/rileystreet/athletic
 s/calendar/5682776/girls-8th-grade-soccer-cityside-middle-school
DTSTART:20240507T213000Z
DTEND:20240507T223000Z
END:VEVENT
END:VCALENDAR
