BEGIN:VCALENDAR
VERSION:2.0
PRODID:SchoolNow
CALSCALE:GREGORIAN
BEGIN:VEVENT
UID:f9a6d428-f040-11ee-8a0e-0affd3c940bd
DTSTAMP:20240510T063007Z
SUMMARY:Girls 8th Grade Soccer @ East Kentwood MS
LOCATION:Crestwood Middle School\, 2674 44th St SE\, Kentwood\, MI 49512
URL;VALUE=URI:https://www.hudsonvillepublicschools.org/rileystreet/athletic
 s/calendar/5682774/girls-8th-grade-soccer-east-kentwood-ms
DTSTART:20240430T213000Z
DTEND:20240430T223000Z
END:VEVENT
END:VCALENDAR
