BEGIN:VCALENDAR
VERSION:2.0
PRODID:SchoolNow
CALSCALE:GREGORIAN
BEGIN:VEVENT
UID:f9a6c528-f040-11ee-b0bd-0affd3c940bd
DTSTAMP:20240510T063007Z
SUMMARY:Girls 8th Grade Soccer @ Hamilton Middle School
LOCATION:Hamilton HS\, 4911 136th Ave\, Hamilton\, MI 49419
URL;VALUE=URI:https://www.hudsonvillepublicschools.org/rileystreet/athletic
 s/calendar/5682773/girls-8th-grade-soccer-hamilton-middle-school
DTSTART:20240425T213000Z
DTEND:20240425T223000Z
END:VEVENT
END:VCALENDAR
