BEGIN:VCALENDAR
VERSION:2.0
PRODID:SchoolNow
CALSCALE:GREGORIAN
BEGIN:VEVENT
UID:f9a6b4c0-f040-11ee-b062-0affd3c940bd
DTSTAMP:20240510T063007Z
SUMMARY:Girls 8th Grade Soccer @ Creekside Middle School
LOCATION:Creekside Middle School\, 179 W Roosevelt Ave\, Zeeland\, MI 49464
URL;VALUE=URI:https://www.hudsonvillepublicschools.org/rileystreet/athletic
 s/calendar/5682772/girls-8th-grade-soccer-creekside-middle-school
DTSTART:20240423T213000Z
DTEND:20240423T223000Z
END:VEVENT
END:VCALENDAR
