BEGIN:VCALENDAR
VERSION:2.0
PRODID:SchoolNow
CALSCALE:GREGORIAN
BEGIN:VEVENT
UID:f9a6a41c-f040-11ee-b416-0affd3c940bd
DTSTAMP:20240510T063007Z
SUMMARY:Girls 8th Grade Soccer vs. Grandville Middle School
LOCATION:Riley Street Middle School\, 5155 32nd Ave\, Hudsonville\, MI 4942
 6
URL;VALUE=URI:https://www.hudsonvillepublicschools.org/rileystreet/athletic
 s/calendar/5682771/girls-8th-grade-soccer-vs-grandville-middle-school
DTSTART:20240418T213000Z
DTEND:20240418T223000Z
END:VEVENT
END:VCALENDAR
