BEGIN:VCALENDAR
VERSION:2.0
PRODID:SchoolNow
CALSCALE:GREGORIAN
BEGIN:VEVENT
UID:f9a6962a-f040-11ee-876c-0affd3c940bd
DTSTAMP:20240510T063007Z
SUMMARY:Girls 8th Grade Soccer @ Grand Haven Middle School
LOCATION:White Pines Intermediate School\, 1400 S Griffin\, Grand Haven\, M
 I 49417
URL;VALUE=URI:https://www.hudsonvillepublicschools.org/rileystreet/athletic
 s/calendar/5682770/girls-8th-grade-soccer-grand-haven-middle-school
DTSTART:20240416T203000Z
DTEND:20240416T213000Z
END:VEVENT
END:VCALENDAR
