BEGIN:VCALENDAR
VERSION:2.0
PRODID:SchoolNow
CALSCALE:GREGORIAN
BEGIN:VEVENT
UID:babe9338-0ccf-11ec-b627-0a6ba753d79f
DTSTAMP:20210903T155807Z
SUMMARY:Mona Shores at WO Bredeweg Invitational
URL;VALUE=URI:https://www.hudsonvillepublicschools.org/rileystreet/athletic
 s/calendar/2704048/mona-shores-at-wo-bredeweg-invitational
DTSTART:20210911T150000Z
DTEND:20210911T170000Z
END:VEVENT
END:VCALENDAR
