BEGIN:VCALENDAR
VERSION:2.0
PRODID:SchoolNow
CALSCALE:GREGORIAN
BEGIN:VEVENT
UID:1f225b6c-0ccf-11ec-babd-0a6ba753d79f
DTSTAMP:20210903T155346Z
SUMMARY:Blue Football home vs. West Ottawa Black
URL;VALUE=URI:https://www.hudsonvillepublicschools.org/rileystreet/athletic
 s/calendar/2704036/blue-football-home-vs-west-ottawa-black
DTSTART:20210908T200000Z
DTEND:20210908T230000Z
END:VEVENT
END:VCALENDAR
