BEGIN:VCALENDAR
VERSION:2.0
PRODID:SchoolNow
CALSCALE:GREGORIAN
BEGIN:VEVENT
UID:e6fbf39c-0cce-11ec-9362-0a6ba753d79f
DTSTAMP:20210903T155211Z
SUMMARY:Girls Tennis vs. Cityside at Creekside
URL;VALUE=URI:https://www.hudsonvillepublicschools.org/rileystreet/athletic
 s/calendar/2704035/girls-tennis-vs-cityside-at-creekside
DTSTART:20211007T200000Z
DTEND:20211007T220000Z
END:VEVENT
END:VCALENDAR
