BEGIN:VCALENDAR
VERSION:2.0
PRODID:SchoolNow
CALSCALE:GREGORIAN
BEGIN:VEVENT
UID:c951b07a-0cce-11ec-900a-0a6ba753d79f
DTSTAMP:20210903T155122Z
SUMMARY:Girls Tennis home vs. WO Black
URL;VALUE=URI:https://www.hudsonvillepublicschools.org/rileystreet/athletic
 s/calendar/2704034/girls-tennis-home-vs-wo-black
DTSTART:20211005T200000Z
DTEND:20211005T220000Z
END:VEVENT
END:VCALENDAR
