BEGIN:VCALENDAR
VERSION:2.0
PRODID:SchoolNow
CALSCALE:GREGORIAN
BEGIN:VEVENT
UID:b113822c-0cce-11ec-9be0-0a6ba753d79f
DTSTAMP:20210903T155041Z
SUMMARY:Girls Tennis at Holland
URL;VALUE=URI:https://www.hudsonvillepublicschools.org/rileystreet/athletic
 s/calendar/2704033/girls-tennis-at-holland
DTSTART:20211004T200000Z
DTEND:20211004T220000Z
END:VEVENT
END:VCALENDAR
