BEGIN:VCALENDAR
VERSION:2.0
PRODID:SchoolNow
CALSCALE:GREGORIAN
BEGIN:VEVENT
UID:8e2bd3fe-0cce-11ec-bd43-0a6ba753d79f
DTSTAMP:20210903T154942Z
SUMMARY:Girls Tennis at Grand haven
URL;VALUE=URI:https://www.hudsonvillepublicschools.org/rileystreet/athletic
 s/calendar/2704031/girls-tennis-at-grand-haven
DTSTART:20210930T203000Z
DTEND:20210930T223000Z
END:VEVENT
END:VCALENDAR
