BEGIN:VCALENDAR
VERSION:2.0
PRODID:SchoolNow
CALSCALE:GREGORIAN
BEGIN:VEVENT
UID:1bc946d4-0cce-11ec-89f6-0a6ba753d79f
DTSTAMP:20210903T154631Z
SUMMARY:Girls tennis home vs. Hamilton
URL;VALUE=URI:https://www.hudsonvillepublicschools.org/rileystreet/athletic
 s/calendar/2704029/girls-tennis-home-vs-hamilton
DTSTART:20210928T200000Z
DTEND:20210928T220000Z
END:VEVENT
END:VCALENDAR
