BEGIN:VCALENDAR
VERSION:2.0
PRODID:SchoolNow
CALSCALE:GREGORIAN
BEGIN:VEVENT
UID:fb0d73fc-0ccd-11ec-8189-0a6ba753d79f
DTSTAMP:20210903T154536Z
SUMMARY:Girls Tennis at Baldwin
URL;VALUE=URI:https://www.hudsonvillepublicschools.org/rileystreet/athletic
 s/calendar/2704002/girls-tennis-at-baldwin
DTSTART:20210923T200000Z
DTEND:20210923T220000Z
END:VEVENT
END:VCALENDAR
