BEGIN:VCALENDAR
VERSION:2.0
PRODID:SchoolNow
CALSCALE:GREGORIAN
BEGIN:VEVENT
UID:3d49167e-0ccc-11ec-aee2-0e3b6f65adfb
DTSTAMP:20210903T153308Z
SUMMARY:Girls Tennis home vs. Grandville
URL;VALUE=URI:https://www.hudsonvillepublicschools.org/rileystreet/athletic
 s/calendar/2703736/girls-tennis-home-vs-grandville
DTSTART:20210921T200000Z
DTEND:20210921T220000Z
END:VEVENT
END:VCALENDAR
