BEGIN:VCALENDAR
VERSION:2.0
PRODID:SchoolNow
CALSCALE:GREGORIAN
BEGIN:VEVENT
UID:2312f7b6-0ccc-11ec-be20-0e3b6f65adfb
DTSTAMP:20210903T153224Z
SUMMARY:Girls tennis at Creekside
URL;VALUE=URI:https://www.hudsonvillepublicschools.org/rileystreet/athletic
 s/calendar/2703733/girls-tennis-at-creekside
DTSTART:20210916T200000Z
DTEND:20210916T230000Z
END:VEVENT
END:VCALENDAR
