BEGIN:VCALENDAR
VERSION:2.0
PRODID:SchoolNow
CALSCALE:GREGORIAN
BEGIN:VEVENT
UID:05b0362a-0ccc-11ec-b54b-0e3b6f65adfb
DTSTAMP:20210903T153134Z
SUMMARY:Girls Tennis home vs. West Ottawa
URL;VALUE=URI:https://www.hudsonvillepublicschools.org/rileystreet/athletic
 s/calendar/2703729/girls-tennis-home-vs-west-ottawa
DTSTART:20210914T200000Z
DTEND:20210914T220000Z
END:VEVENT
END:VCALENDAR
