BEGIN:VCALENDAR
VERSION:2.0
PRODID:SchoolNow
CALSCALE:GREGORIAN
BEGIN:VEVENT
UID:efae44d4-0ccb-11ec-a7e5-0e3b6f65adfb
DTSTAMP:20210903T153058Z
SUMMARY:Girls Tennis at Jenison
URL;VALUE=URI:https://www.hudsonvillepublicschools.org/rileystreet/athletic
 s/calendar/2703726/girls-tennis-at-jenison
DTSTART:20210909T200000Z
DTEND:20210909T220000Z
END:VEVENT
END:VCALENDAR
