BEGIN:VCALENDAR
VERSION:2.0
PRODID:SchoolNow
CALSCALE:GREGORIAN
BEGIN:VEVENT
UID:d47874e6-0ccb-11ec-bbcc-0e3b6f65adfb
DTSTAMP:20210903T160915Z
SUMMARY:Girls Tennis at home vs. Holland Christian
URL;VALUE=URI:https://www.hudsonvillepublicschools.org/rileystreet/athletic
 s/calendar/2703725/girls-tennis-at-home-vs-holland-christian
DTSTART:20210907T200000Z
DTEND:20210907T220000Z
END:VEVENT
END:VCALENDAR
