BEGIN:VCALENDAR
VERSION:2.0
PRODID:SchoolNow
CALSCALE:GREGORIAN
BEGIN:VEVENT
UID:95a37d56-0ccb-11ec-80d8-0e3b6f65adfb
DTSTAMP:20210903T152827Z
SUMMARY:Eagle Select Volleyball at Mona Shores
URL;VALUE=URI:https://www.hudsonvillepublicschools.org/rileystreet/athletic
 s/calendar/2703720/eagle-select-volleyball-at-mona-shores
DTSTART:20211012T200000Z
DTEND:20211012T230000Z
END:VEVENT
END:VCALENDAR
