BEGIN:VCALENDAR
VERSION:2.0
PRODID:SchoolNow
CALSCALE:GREGORIAN
BEGIN:VEVENT
UID:7cceb778-0ccb-11ec-9a4d-0e3b6f65adfb
DTSTAMP:20210903T152745Z
SUMMARY:Eagle Select Volleyball at Crestwood
URL;VALUE=URI:https://www.hudsonvillepublicschools.org/rileystreet/athletic
 s/calendar/2703719/eagle-select-volleyball-at-crestwood
DTSTART:20211005T200000Z
DTEND:20211005T230000Z
END:VEVENT
END:VCALENDAR
