BEGIN:VCALENDAR
VERSION:2.0
PRODID:SchoolNow
CALSCALE:GREGORIAN
BEGIN:VEVENT
UID:4c22d42e-0ccb-11ec-9bc9-0e3b6f65adfb
DTSTAMP:20210903T152623Z
SUMMARY:Eagle Select Volleyball at Riley vs. Cityside
URL;VALUE=URI:https://www.hudsonvillepublicschools.org/rileystreet/athletic
 s/calendar/2703715/eagle-select-volleyball-at-riley-vs-cityside
DTSTART:20211004T200000Z
DTEND:20211004T230000Z
END:VEVENT
END:VCALENDAR
