BEGIN:VCALENDAR
VERSION:2.0
PRODID:SchoolNow
CALSCALE:GREGORIAN
BEGIN:VEVENT
UID:fb18b580-0cca-11ec-aa62-0e3b6f65adfb
DTSTAMP:20210903T152407Z
SUMMARY:Eagle Select Volleyball at Hamilton
URL;VALUE=URI:https://www.hudsonvillepublicschools.org/rileystreet/athletic
 s/calendar/2703712/eagle-select-volleyball-at-hamilton
DTSTART:20210928T200000Z
DTEND:20210928T230000Z
END:VEVENT
END:VCALENDAR
