BEGIN:VCALENDAR
VERSION:2.0
PRODID:SchoolNow
CALSCALE:GREGORIAN
BEGIN:VEVENT
UID:c7da2366-0cca-11ec-8738-0e3b6f65adfb
DTSTAMP:20210903T152241Z
SUMMARY:Eagle Select at Baldwin vs. Grandville
URL;VALUE=URI:https://www.hudsonvillepublicschools.org/rileystreet/athletic
 s/calendar/2703709/eagle-select-at-baldwin-vs-grandville
DTSTART:20210923T200000Z
DTEND:20210923T230000Z
END:VEVENT
END:VCALENDAR
