BEGIN:VCALENDAR
VERSION:2.0
PRODID:SchoolNow
CALSCALE:GREGORIAN
BEGIN:VEVENT
UID:a3d3bed2-0cca-11ec-b6f4-0e3b6f65adfb
DTSTAMP:20210903T152141Z
SUMMARY:Eagle Select Volleyball at Holland Christian
URL;VALUE=URI:https://www.hudsonvillepublicschools.org/rileystreet/athletic
 s/calendar/2703707/eagle-select-volleyball-at-holland-christian
DTSTART:20210921T200000Z
DTEND:20210921T230000Z
END:VEVENT
END:VCALENDAR
