BEGIN:VCALENDAR
VERSION:2.0
PRODID:SchoolNow
CALSCALE:GREGORIAN
BEGIN:VEVENT
UID:4572363e-0cca-11ec-9131-0e3b6f65adfb
DTSTAMP:20210903T151902Z
SUMMARY:Eagle Select Volleyball at Baldwin vs. Creekside
URL;VALUE=URI:https://www.hudsonvillepublicschools.org/rileystreet/athletic
 s/calendar/2703704/eagle-select-volleyball-at-baldwin-vs-creekside
DTSTART:20210916T200000Z
DTEND:20210916T230000Z
END:VEVENT
END:VCALENDAR
