BEGIN:VCALENDAR
VERSION:2.0
PRODID:SchoolNow
CALSCALE:GREGORIAN
BEGIN:VEVENT
UID:9aa3a986-0cc9-11ec-910d-0e3b6f65adfb
DTSTAMP:20210903T151416Z
SUMMARY:Eagle Select Volleyball at Baldwin vs. West Ottawa
URL;VALUE=URI:https://www.hudsonvillepublicschools.org/rileystreet/athletic
 s/calendar/2703700/eagle-select-volleyball-at-baldwin-vs-west-ottawa
DTSTART:20210909T200000Z
DTEND:20210909T210000Z
END:VEVENT
END:VCALENDAR
