BEGIN:VCALENDAR
VERSION:2.0
PRODID:SchoolNow
CALSCALE:GREGORIAN
BEGIN:VEVENT
UID:deb73a44-0cc8-11ec-a061-0e3b6f65adfb
DTSTAMP:20210903T150901Z
SUMMARY:Volleyball Tournament at Reeths Puffer/Mona Shores
URL;VALUE=URI:https://www.hudsonvillepublicschools.org/rileystreet/athletic
 s/calendar/2703698/volleyball-tournament-at-reeths-puffer-mona-shores
DTSTART:20210925T130000Z
DTEND:20210925T170000Z
END:VEVENT
END:VCALENDAR
