BEGIN:VCALENDAR
VERSION:2.0
PRODID:SchoolNow
CALSCALE:GREGORIAN
BEGIN:VEVENT
UID:2f6ea514-0cc7-11ec-8b65-0e3b6f65adfb
DTSTAMP:20210903T145657Z
SUMMARY:Volleyball home vs. Reeths Puffer
URL;VALUE=URI:https://www.hudsonvillepublicschools.org/rileystreet/athletic
 s/calendar/2703693/volleyball-home-vs-reeths-puffer
DTSTART:20211012T200000Z
DTEND:20211012T230000Z
END:VEVENT
END:VCALENDAR
