BEGIN:VCALENDAR
VERSION:2.0
PRODID:SchoolNow
CALSCALE:GREGORIAN
BEGIN:VEVENT
UID:10ba75a8-0cc7-11ec-be9d-0e3b6f65adfb
DTSTAMP:20210903T145606Z
SUMMARY:Volleyball home vs. Grand Haven Blue
URL;VALUE=URI:https://www.hudsonvillepublicschools.org/rileystreet/athletic
 s/calendar/2703691/volleyball-home-vs-grand-haven-blue
DTSTART:20211007T200000Z
DTEND:20211007T230000Z
END:VEVENT
END:VCALENDAR
