BEGIN:VCALENDAR
VERSION:2.0
PRODID:SchoolNow
CALSCALE:GREGORIAN
BEGIN:VEVENT
UID:f2eaa4bc-0cc6-11ec-a49a-0e3b6f65adfb
DTSTAMP:20210903T145516Z
SUMMARY:Volleyball at Hamilton
URL;VALUE=URI:https://www.hudsonvillepublicschools.org/rileystreet/athletic
 s/calendar/2703689/volleyball-at-hamilton
DTSTART:20211005T200000Z
DTEND:20211005T230000Z
END:VEVENT
END:VCALENDAR
