BEGIN:VCALENDAR
VERSION:2.0
PRODID:SchoolNow
CALSCALE:GREGORIAN
BEGIN:VEVENT
UID:d5bce238-0cc6-11ec-b532-0e3b6f65adfb
DTSTAMP:20210903T145427Z
SUMMARY:Volleyball home vs. Jenison
URL;VALUE=URI:https://www.hudsonvillepublicschools.org/rileystreet/athletic
 s/calendar/2703688/volleyball-home-vs-jenison
DTSTART:20210930T200000Z
DTEND:20210930T230000Z
END:VEVENT
END:VCALENDAR
