BEGIN:VCALENDAR
VERSION:2.0
PRODID:SchoolNow
CALSCALE:GREGORIAN
BEGIN:VEVENT
UID:b5e62ae6-0cc6-11ec-86c5-0e3b6f65adfb
DTSTAMP:20210903T145333Z
SUMMARY:Volleyball at Holland
URL;VALUE=URI:https://www.hudsonvillepublicschools.org/rileystreet/athletic
 s/calendar/2703686/volleyball-at-holland
DTSTART:20210928T200000Z
DTEND:20210928T230000Z
END:VEVENT
END:VCALENDAR
