BEGIN:VCALENDAR
VERSION:2.0
PRODID:SchoolNow
CALSCALE:GREGORIAN
BEGIN:VEVENT
UID:9d5f93c2-0cc6-11ec-a1da-0e3b6f65adfb
DTSTAMP:20210903T145252Z
SUMMARY:Volleyball home vs. Baldwin
URL;VALUE=URI:https://www.hudsonvillepublicschools.org/rileystreet/athletic
 s/calendar/2703685/volleyball-home-vs-baldwin
DTSTART:20210923T200000Z
DTEND:20210923T230000Z
END:VEVENT
END:VCALENDAR
