BEGIN:VCALENDAR
VERSION:2.0
PRODID:SchoolNow
CALSCALE:GREGORIAN
BEGIN:VEVENT
UID:75900d72-0cc6-11ec-97cb-0e3b6f65adfb
DTSTAMP:20210903T145145Z
SUMMARY:Volleyball at Cityside
URL;VALUE=URI:https://www.hudsonvillepublicschools.org/rileystreet/athletic
 s/calendar/2703684/volleyball-at-cityside
DTSTART:20210921T200000Z
DTEND:20210921T230000Z
END:VEVENT
END:VCALENDAR
