BEGIN:VCALENDAR
VERSION:2.0
PRODID:SchoolNow
CALSCALE:GREGORIAN
BEGIN:VEVENT
UID:1639e9e8-0cc5-11ec-9599-0e7a80b88151
DTSTAMP:20210903T144156Z
SUMMARY:Volleyball at Pinewood
URL;VALUE=URI:https://www.hudsonvillepublicschools.org/rileystreet/athletic
 s/calendar/2703676/volleyball-at-pinewood
DTSTART:20210916T200000Z
DTEND:20210916T230000Z
END:VEVENT
END:VCALENDAR
