BEGIN:VCALENDAR
VERSION:2.0
PRODID:SchoolNow
CALSCALE:GREGORIAN
BEGIN:VEVENT
UID:d779dc40-0cc4-11ec-8ad6-0e7a80b88151
DTSTAMP:20210903T144010Z
SUMMARY:Volleyball at Grandville
URL;VALUE=URI:https://www.hudsonvillepublicschools.org/rileystreet/athletic
 s/calendar/2703675/volleyball-at-grandville
DTSTART:20210914T200000Z
DTEND:20210914T220000Z
END:VEVENT
END:VCALENDAR
