BEGIN:VCALENDAR
VERSION:2.0
PRODID:SchoolNow
CALSCALE:GREGORIAN
BEGIN:VEVENT
UID:76db5418-0cc4-11ec-8236-0e7a80b88151
DTSTAMP:20210903T143728Z
SUMMARY:Volleyball home vs. Creekside
URL;VALUE=URI:https://www.hudsonvillepublicschools.org/rileystreet/athletic
 s/calendar/2703673/volleyball-home-vs-creekside
DTSTART:20210909T200000Z
DTEND:20210909T230000Z
END:VEVENT
END:VCALENDAR
