BEGIN:VCALENDAR
VERSION:2.0
PRODID:SchoolNow
CALSCALE:GREGORIAN
BEGIN:VEVENT
UID:85f27082-0cc2-11ec-b5e8-0a3913afadab
DTSTAMP:20210903T142335Z
SUMMARY:8th Grade Maize Football at Grandville High School
URL;VALUE=URI:https://www.hudsonvillepublicschools.org/rileystreet/athletic
 s/calendar/2703664/8th-grade-maize-football-at-grandville-high-school
DTSTART:20210907T200000Z
DTEND:20210907T220000Z
END:VEVENT
END:VCALENDAR
