BEGIN:VCALENDAR
VERSION:2.0
PRODID:SchoolNow
CALSCALE:GREGORIAN
BEGIN:VEVENT
UID:7eb22a54-0cb5-11ec-bce5-0a6ba753d79f
DTSTAMP:20210903T125019Z
SUMMARY:Cross Country at Mona Shores Invitational
URL;VALUE=URI:https://www.hudsonvillepublicschools.org/rileystreet/athletic
 s/calendar/2703663/cross-country-at-mona-shores-invitational
DTSTART:20210909T200000Z
DTEND:20210909T220000Z
END:VEVENT
END:VCALENDAR
