BEGIN:VCALENDAR
VERSION:2.0
PRODID:SchoolNow
CALSCALE:GREGORIAN
BEGIN:VEVENT
UID:61320eb4-0cb4-11ec-acab-02d0f5eb3869
DTSTAMP:20210903T124220Z
SUMMARY:Boys Soccer at Jenison
URL;VALUE=URI:https://www.hudsonvillepublicschools.org/rileystreet/athletic
 s/calendar/2703662/boys-soccer-at-jenison
DTSTART:20210914T200000Z
DTEND:20210914T220000Z
END:VEVENT
END:VCALENDAR
