BEGIN:VCALENDAR
VERSION:2.0
PRODID:SchoolNow
CALSCALE:GREGORIAN
BEGIN:VEVENT
UID:25275aa0-0cb4-11ec-a18e-02d0f5eb3869
DTSTAMP:20210903T124039Z
SUMMARY:Boys Soccer home vs. Grandville - 7th grade only
URL;VALUE=URI:https://www.hudsonvillepublicschools.org/rileystreet/athletic
 s/calendar/2703661/boys-soccer-home-vs-grandville-7th-grade-only
DTSTART:20211012T200000Z
DTEND:20211012T210000Z
END:VEVENT
END:VCALENDAR
