BEGIN:VCALENDAR
VERSION:2.0
PRODID:SchoolNow
CALSCALE:GREGORIAN
BEGIN:VEVENT
UID:d7bf85da-0cb3-11ec-93b6-02d0f5eb3869
DTSTAMP:20210903T123829Z
SUMMARY:Boys Soccer home vs. Zeeland Creekside - 8th grade only
URL;VALUE=URI:https://www.hudsonvillepublicschools.org/rileystreet/athletic
 s/calendar/2703659/boys-soccer-home-vs-zeeland-creekside-8th-grade-only
DTSTART:20211005T200000Z
DTEND:20211005T220000Z
END:VEVENT
END:VCALENDAR
