BEGIN:VCALENDAR
VERSION:2.0
PRODID:SchoolNow
CALSCALE:GREGORIAN
BEGIN:VEVENT
UID:61837548-0cb3-11ec-bf20-02d0f5eb3869
DTSTAMP:20210903T123511Z
SUMMARY:Boys Soccer at Grand Haven - 7th only
URL;VALUE=URI:https://www.hudsonvillepublicschools.org/rileystreet/athletic
 s/calendar/2703658/boys-soccer-at-grand-haven-7th-only
DTSTART:20210930T203000Z
DTEND:20210930T213000Z
END:VEVENT
END:VCALENDAR
