BEGIN:VCALENDAR
VERSION:2.0
PRODID:SchoolNow
CALSCALE:GREGORIAN
BEGIN:VEVENT
UID:39434fc2-0cb3-11ec-8e4e-02d0f5eb3869
DTSTAMP:20210903T123404Z
SUMMARY:Boys Soccer home vs. Muskegon - 8th grade only
URL;VALUE=URI:https://www.hudsonvillepublicschools.org/rileystreet/athletic
 s/calendar/2703657/boys-soccer-home-vs-muskegon-8th-grade-only
DTSTART:20210928T200000Z
DTEND:20210928T210000Z
END:VEVENT
END:VCALENDAR
