BEGIN:VCALENDAR
VERSION:2.0
PRODID:SchoolNow
CALSCALE:GREGORIAN
BEGIN:VEVENT
UID:c5dba57a-0cb2-11ec-b041-02d0f5eb3869
DTSTAMP:20210903T123050Z
SUMMARY:Boys Soccer at Grandville - 8th grade only
URL;VALUE=URI:https://www.hudsonvillepublicschools.org/rileystreet/athletic
 s/calendar/2703656/boys-soccer-at-grandville-8th-grade-only
DTSTART:20210923T120000Z
DTEND:20210923T220000Z
END:VEVENT
END:VCALENDAR
