BEGIN:VCALENDAR
VERSION:2.0
PRODID:SchoolNow
CALSCALE:GREGORIAN
BEGIN:VEVENT
UID:5cd099f0-0cb2-11ec-a34a-02d0f5eb3869
DTSTAMP:20210903T122754Z
SUMMARY:Boys Soccer at Hamilton High School
URL;VALUE=URI:https://www.hudsonvillepublicschools.org/rileystreet/athletic
 s/calendar/2703654/boys-soccer-at-hamilton-high-school
DTSTART:20210920T200000Z
DTEND:20210920T220000Z
END:VEVENT
END:VCALENDAR
