BEGIN:VCALENDAR
VERSION:2.0
PRODID:SchoolNow
CALSCALE:GREGORIAN
BEGIN:VEVENT
UID:8632215e-0bfb-11ec-89fb-024502b78415
DTSTAMP:20210902T143905Z
SUMMARY:Boys Soccer home vs. Zeeland Cityside
URL;VALUE=URI:https://www.hudsonvillepublicschools.org/rileystreet/athletic
 s/calendar/2700152/boys-soccer-home-vs-zeeland-cityside
DTSTART:20210916T200000Z
DTEND:20210916T220000Z
END:VEVENT
END:VCALENDAR
