BEGIN:VCALENDAR
VERSION:2.0
PRODID:SchoolNow
CALSCALE:GREGORIAN
BEGIN:VEVENT
UID:cc020320-a779-11eb-8e83-0e448114f6a1
DTSTAMP:20210427T165832Z
SUMMARY:8th Grade Girls Soccer vs. Jenison
LOCATION:3835 Baldwin Street
URL;VALUE=URI:https://www.hudsonvillepublicschools.org/rileystreet/athletic
 s/calendar/2587542/8th-grade-girls-soccer-vs-jenison
DTSTART:20210512T200000Z
DTEND:20210512T210000Z
END:VEVENT
END:VCALENDAR
