BEGIN:VCALENDAR
VERSION:2.0
PRODID:SchoolNow
CALSCALE:GREGORIAN
BEGIN:VEVENT
UID:9ced7750-a1e7-11eb-9fda-0aabb135733b
DTSTAMP:20210420T144930Z
SUMMARY:Boys tennis at Zeeland Cityside
LOCATION:179 W. Roosevelt
URL;VALUE=URI:https://www.hudsonvillepublicschools.org/rileystreet/athletic
 s/calendar/2582810/boys-tennis-at-zeeland-cityside
DTSTART:20210427T200000Z
DTEND:20210427T220000Z
END:VEVENT
END:VCALENDAR
